BEGIN:VCALENDAR
VERSION:2.0
PRODID:-//CVP - ECPv6.15.20//NONSGML v1.0//EN
CALSCALE:GREGORIAN
METHOD:PUBLISH
X-WR-CALNAME:CVP
X-ORIGINAL-URL:https://cercledelavoiledeparis.fr
X-WR-CALDESC:Évènements pour CVP
REFRESH-INTERVAL;VALUE=DURATION:PT1H
X-Robots-Tag:noindex
X-PUBLISHED-TTL:PT1H
BEGIN:VTIMEZONE
TZID:Europe/Paris
BEGIN:DAYLIGHT
TZOFFSETFROM:+0100
TZOFFSETTO:+0200
TZNAME:CEST
DTSTART:20210328T010000
END:DAYLIGHT
BEGIN:STANDARD
TZOFFSETFROM:+0200
TZOFFSETTO:+0100
TZNAME:CET
DTSTART:20211031T010000
END:STANDARD
BEGIN:DAYLIGHT
TZOFFSETFROM:+0100
TZOFFSETTO:+0200
TZNAME:CEST
DTSTART:20220327T010000
END:DAYLIGHT
BEGIN:STANDARD
TZOFFSETFROM:+0200
TZOFFSETTO:+0100
TZNAME:CET
DTSTART:20221030T010000
END:STANDARD
BEGIN:DAYLIGHT
TZOFFSETFROM:+0100
TZOFFSETTO:+0200
TZNAME:CEST
DTSTART:20230326T010000
END:DAYLIGHT
BEGIN:STANDARD
TZOFFSETFROM:+0200
TZOFFSETTO:+0100
TZNAME:CET
DTSTART:20231029T010000
END:STANDARD
END:VTIMEZONE
BEGIN:VEVENT
DTSTART;VALUE=DATE:20220703
DTEND;VALUE=DATE:20220704
DTSTAMP:20260421T002320
CREATED:20211226T082138Z
LAST-MODIFIED:20220701T063355Z
UID:7880-1656806400-1656892799@cercledelavoiledeparis.fr
SUMMARY:Challenge INQ Autres Fast - 5A
DESCRIPTION:INSCRIPTIONS EN LIGNE \nhttps://docs.google.com/forms/d/e/1FAIpQLSdnBu2yq40RBSaRxUlNsUM-q5DTy_DkXqwgv21FrstETyHFNA/viewform?vc=0&c=0&w=1&flr=0&usp=mail_form_link
URL:https://cercledelavoiledeparis.fr/event/challenge-inq-5a/
END:VEVENT
BEGIN:VEVENT
DTSTART;VALUE=DATE:20220703
DTEND;VALUE=DATE:20220704
DTSTAMP:20260421T002320
CREATED:20211226T082242Z
LAST-MODIFIED:20220616T165543Z
UID:7882-1656806400-1656892799@cercledelavoiledeparis.fr
SUMMARY:Challenge Super Star - 5A
DESCRIPTION:INSCRIPTIONS EN LIGNE \nhttps://docs.google.com/forms/d/e/1FAIpQLSdnBu2yq40RBSaRxUlNsUM-q5DTy_DkXqwgv21FrstETyHFNA/viewform?vc=0&c=0&w=1&flr=0&usp=mail_form_link
URL:https://cercledelavoiledeparis.fr/event/challenge-super-star-5a-2/
ATTACH;FMTTYPE=image/png:https://cercledelavoiledeparis.fr/wp-content/uploads/2021/12/Flotte-de-Paris.png
END:VEVENT
BEGIN:VEVENT
DTSTART;VALUE=DATE:20220710
DTEND;VALUE=DATE:20220711
DTSTAMP:20260421T002320
CREATED:20211226T082327Z
LAST-MODIFIED:20211226T082327Z
UID:7884-1657411200-1657497599@cercledelavoiledeparis.fr
SUMMARY:Balade en Seine à Triel
DESCRIPTION:
URL:https://cercledelavoiledeparis.fr/event/balade-en-seine-a-triel/
END:VEVENT
END:VCALENDAR