BEGIN:VCALENDAR
VERSION:2.0
PRODID:-//CVP - ECPv6.15.20//NONSGML v1.0//EN
CALSCALE:GREGORIAN
METHOD:PUBLISH
X-ORIGINAL-URL:https://cercledelavoiledeparis.fr
X-WR-CALDESC:Évènements pour CVP
REFRESH-INTERVAL;VALUE=DURATION:PT1H
X-Robots-Tag:noindex
X-PUBLISHED-TTL:PT1H
BEGIN:VTIMEZONE
TZID:Europe/Paris
BEGIN:DAYLIGHT
TZOFFSETFROM:+0100
TZOFFSETTO:+0200
TZNAME:CEST
DTSTART:20210328T010000
END:DAYLIGHT
BEGIN:STANDARD
TZOFFSETFROM:+0200
TZOFFSETTO:+0100
TZNAME:CET
DTSTART:20211031T010000
END:STANDARD
BEGIN:DAYLIGHT
TZOFFSETFROM:+0100
TZOFFSETTO:+0200
TZNAME:CEST
DTSTART:20220327T010000
END:DAYLIGHT
BEGIN:STANDARD
TZOFFSETFROM:+0200
TZOFFSETTO:+0100
TZNAME:CET
DTSTART:20221030T010000
END:STANDARD
BEGIN:DAYLIGHT
TZOFFSETFROM:+0100
TZOFFSETTO:+0200
TZNAME:CEST
DTSTART:20230326T010000
END:DAYLIGHT
BEGIN:STANDARD
TZOFFSETFROM:+0200
TZOFFSETTO:+0100
TZNAME:CET
DTSTART:20231029T010000
END:STANDARD
END:VTIMEZONE
BEGIN:VEVENT
DTSTART;VALUE=DATE:20220501
DTEND;VALUE=DATE:20220502
DTSTAMP:20260421T031953
CREATED:20211226T080636Z
LAST-MODIFIED:20211226T080636Z
UID:7858-1651363200-1651449599@cercledelavoiledeparis.fr
SUMMARY:Coupe Mantinea - 5C
DESCRIPTION:
URL:https://cercledelavoiledeparis.fr/event/coupe-mantinea-5c/
END:VEVENT
BEGIN:VEVENT
DTSTART;VALUE=DATE:20220514
DTEND;VALUE=DATE:20220515
DTSTAMP:20260421T031953
CREATED:20211226T080731Z
LAST-MODIFIED:20220331T153223Z
UID:7860-1652486400-1652572799@cercledelavoiledeparis.fr
SUMMARY:Journée portes ouvertes - découverte du CVP
DESCRIPTION:
URL:https://cercledelavoiledeparis.fr/event/journee-portes-ouvertes/
END:VEVENT
BEGIN:VEVENT
DTSTART;VALUE=DATE:20220515
DTEND;VALUE=DATE:20220516
DTSTAMP:20260421T031953
CREATED:20211226T080837Z
LAST-MODIFIED:20220511T163859Z
UID:7862-1652572800-1652659199@cercledelavoiledeparis.fr
SUMMARY:Les Petits Bleus - INQ Fast 5C
DESCRIPTION:Inscriptions en ligne \nhttps://docs.google.com/forms/d/e/1FAIpQLScBjmrtBO71eQp16fCQQORFmhgmc7fdKSOq7skzSoFZ1IJxaw/viewform?vc=0&c=0&w=1&flr=0&usp=mail_form_link
URL:https://cercledelavoiledeparis.fr/event/les-petits-bleus-inq-fast-5c/
END:VEVENT
BEGIN:VEVENT
DTSTART;VALUE=DATE:20220521
DTEND;VALUE=DATE:20220523
DTSTAMP:20260421T031953
CREATED:20211226T081031Z
LAST-MODIFIED:20220513T105402Z
UID:7864-1653091200-1653263999@cercledelavoiledeparis.fr
SUMMARY:Championnat national Soling\, Eaux intérieures - 5A
DESCRIPTION:Inscriptions en ligne \nhttps://docs.google.com/forms/d/e/1FAIpQLSd9ulm0lpnBLij_lLpOW-_TDFzRfr-DC5wKQj99hyd086byIQ/viewform?vc=0&c=0&w=1&flr=0
URL:https://cercledelavoiledeparis.fr/event/championnat-national-soling-eaux-interieures-5a/
ATTACH;FMTTYPE=image/jpeg:https://cercledelavoiledeparis.fr/wp-content/uploads/2014/10/logo-Soling.jpg
END:VEVENT
BEGIN:VEVENT
DTSTART;VALUE=DATE:20220529
DTEND;VALUE=DATE:20220530
DTSTAMP:20260421T031953
CREATED:20211226T081127Z
LAST-MODIFIED:20220525T064255Z
UID:7866-1653782400-1653868799@cercledelavoiledeparis.fr
SUMMARY:Coupe du Cercle - INQ 5C
DESCRIPTION:Inscriptions en ligne \nhttps://docs.google.com/forms/d/e/1FAIpQLScyXq4yKw7LFA9fObEQlyLvRykY8uaauvWDAUePkY1jcySf8w/viewform?vc=0&c=0&w=1&flr=0&usp=mail_form_link
URL:https://cercledelavoiledeparis.fr/event/coupe-lof-machine-inq-5c/
END:VEVENT
END:VCALENDAR