BEGIN:VCALENDAR
VERSION:2.0
PRODID:-//CVP - ECPv6.15.20//NONSGML v1.0//EN
CALSCALE:GREGORIAN
METHOD:PUBLISH
X-ORIGINAL-URL:https://cercledelavoiledeparis.fr
X-WR-CALDESC:Évènements pour CVP
REFRESH-INTERVAL;VALUE=DURATION:PT1H
X-Robots-Tag:noindex
X-PUBLISHED-TTL:PT1H
BEGIN:VTIMEZONE
TZID:Europe/Paris
BEGIN:DAYLIGHT
TZOFFSETFROM:+0100
TZOFFSETTO:+0200
TZNAME:CEST
DTSTART:20210328T010000
END:DAYLIGHT
BEGIN:STANDARD
TZOFFSETFROM:+0200
TZOFFSETTO:+0100
TZNAME:CET
DTSTART:20211031T010000
END:STANDARD
BEGIN:DAYLIGHT
TZOFFSETFROM:+0100
TZOFFSETTO:+0200
TZNAME:CEST
DTSTART:20220327T010000
END:DAYLIGHT
BEGIN:STANDARD
TZOFFSETFROM:+0200
TZOFFSETTO:+0100
TZNAME:CET
DTSTART:20221030T010000
END:STANDARD
BEGIN:DAYLIGHT
TZOFFSETFROM:+0100
TZOFFSETTO:+0200
TZNAME:CEST
DTSTART:20230326T010000
END:DAYLIGHT
BEGIN:STANDARD
TZOFFSETFROM:+0200
TZOFFSETTO:+0100
TZNAME:CET
DTSTART:20231029T010000
END:STANDARD
END:VTIMEZONE
BEGIN:VEVENT
DTSTART;VALUE=DATE:20220312
DTEND;VALUE=DATE:20220313
DTSTAMP:20260421T063309
CREATED:20220121T164633Z
LAST-MODIFIED:20220121T164643Z
UID:7954-1647043200-1647129599@cercledelavoiledeparis.fr
SUMMARY:Entraînement étudiants & toutes séries
DESCRIPTION:
URL:https://cercledelavoiledeparis.fr/event/entrainement-etudiants-toutes-series/
END:VEVENT
BEGIN:VEVENT
DTSTART;VALUE=DATE:20220319
DTEND;VALUE=DATE:20220321
DTSTAMP:20260421T063309
CREATED:20220121T164713Z
LAST-MODIFIED:20220121T164713Z
UID:7956-1647648000-1647820799@cercledelavoiledeparis.fr
SUMMARY:Entraînement étudiants & toutes séries
DESCRIPTION:
URL:https://cercledelavoiledeparis.fr/event/entrainement-etudiants-toutes-series-2/
END:VEVENT
BEGIN:VEVENT
DTSTART;VALUE=DATE:20220326
DTEND;VALUE=DATE:20220328
DTSTAMP:20260421T063309
CREATED:20220121T164837Z
LAST-MODIFIED:20220121T164837Z
UID:7958-1648252800-1648425599@cercledelavoiledeparis.fr
SUMMARY:Entraînement étudiants & toutes séries
DESCRIPTION:
URL:https://cercledelavoiledeparis.fr/event/entrainement-etudiants-toutes-series-3/
END:VEVENT
END:VCALENDAR