BEGIN:VCALENDAR
VERSION:2.0
PRODID:-//CVP - ECPv6.15.20//NONSGML v1.0//EN
CALSCALE:GREGORIAN
METHOD:PUBLISH
X-WR-CALNAME:CVP
X-ORIGINAL-URL:https://cercledelavoiledeparis.fr
X-WR-CALDESC:Évènements pour CVP
REFRESH-INTERVAL;VALUE=DURATION:PT1H
X-Robots-Tag:noindex
X-PUBLISHED-TTL:PT1H
BEGIN:VTIMEZONE
TZID:Europe/Paris
BEGIN:DAYLIGHT
TZOFFSETFROM:+0100
TZOFFSETTO:+0200
TZNAME:CEST
DTSTART:20200329T010000
END:DAYLIGHT
BEGIN:STANDARD
TZOFFSETFROM:+0200
TZOFFSETTO:+0100
TZNAME:CET
DTSTART:20201025T010000
END:STANDARD
BEGIN:DAYLIGHT
TZOFFSETFROM:+0100
TZOFFSETTO:+0200
TZNAME:CEST
DTSTART:20210328T010000
END:DAYLIGHT
BEGIN:STANDARD
TZOFFSETFROM:+0200
TZOFFSETTO:+0100
TZNAME:CET
DTSTART:20211031T010000
END:STANDARD
BEGIN:DAYLIGHT
TZOFFSETFROM:+0100
TZOFFSETTO:+0200
TZNAME:CEST
DTSTART:20220327T010000
END:DAYLIGHT
BEGIN:STANDARD
TZOFFSETFROM:+0200
TZOFFSETTO:+0100
TZNAME:CET
DTSTART:20221030T010000
END:STANDARD
END:VTIMEZONE
BEGIN:VEVENT
DTSTART;VALUE=DATE:20210704
DTEND;VALUE=DATE:20210705
DTSTAMP:20260423T182720
CREATED:20210129T170347Z
LAST-MODIFIED:20210628T110937Z
UID:7260-1625356800-1625443199@cercledelavoiledeparis.fr
SUMMARY:Challenge INQ Soling\, M7.50\, Tempest - 5A
DESCRIPTION:https://docs.google.com/forms/d/e/1FAIpQLSdlAQ2jlWM0HvzdcSbflHOL0tB2S-L1NFQs8cphnGZWejJG_g/viewform?vc=0&c=0&w=1&flr=0&usp=mail_form_link
URL:https://cercledelavoiledeparis.fr/event/challenge-inq-soling-m7-50-tempest-5a/
END:VEVENT
BEGIN:VEVENT
DTSTART;VALUE=DATE:20210704
DTEND;VALUE=DATE:20210705
DTSTAMP:20260423T182720
CREATED:20210129T170445Z
LAST-MODIFIED:20210628T111041Z
UID:7262-1625356800-1625443199@cercledelavoiledeparis.fr
SUMMARY:Challenge Super Star - 5A
DESCRIPTION:https://docs.google.com/forms/d/e/1FAIpQLSdlAQ2jlWM0HvzdcSbflHOL0tB2S-L1NFQs8cphnGZWejJG_g/viewform?vc=0&c=0&w=1&flr=0&usp=mail_form_link
URL:https://cercledelavoiledeparis.fr/event/challenge-super-star-5a/
ATTACH;FMTTYPE=image/gif:https://cercledelavoiledeparis.fr/wp-content/uploads/2016/05/Red_Star_50x50.gif
END:VEVENT
BEGIN:VEVENT
DTSTART;VALUE=DATE:20210711
DTEND;VALUE=DATE:20210712
DTSTAMP:20260423T182720
CREATED:20210129T170536Z
LAST-MODIFIED:20210129T170536Z
UID:7264-1625961600-1626047999@cercledelavoiledeparis.fr
SUMMARY:Ballade CVP / Triel\, pique nique
DESCRIPTION:
URL:https://cercledelavoiledeparis.fr/event/ballade-cvp-triel-pique-nique/
END:VEVENT
END:VCALENDAR