BEGIN:VCALENDAR
VERSION:2.0
PRODID:-//CVP - ECPv6.15.20//NONSGML v1.0//EN
CALSCALE:GREGORIAN
METHOD:PUBLISH
X-WR-CALNAME:CVP
X-ORIGINAL-URL:https://cercledelavoiledeparis.fr
X-WR-CALDESC:Évènements pour CVP
REFRESH-INTERVAL;VALUE=DURATION:PT1H
X-Robots-Tag:noindex
X-PUBLISHED-TTL:PT1H
BEGIN:VTIMEZONE
TZID:Europe/Paris
BEGIN:DAYLIGHT
TZOFFSETFROM:+0100
TZOFFSETTO:+0200
TZNAME:CEST
DTSTART:20200329T010000
END:DAYLIGHT
BEGIN:STANDARD
TZOFFSETFROM:+0200
TZOFFSETTO:+0100
TZNAME:CET
DTSTART:20201025T010000
END:STANDARD
BEGIN:DAYLIGHT
TZOFFSETFROM:+0100
TZOFFSETTO:+0200
TZNAME:CEST
DTSTART:20210328T010000
END:DAYLIGHT
BEGIN:STANDARD
TZOFFSETFROM:+0200
TZOFFSETTO:+0100
TZNAME:CET
DTSTART:20211031T010000
END:STANDARD
BEGIN:DAYLIGHT
TZOFFSETFROM:+0100
TZOFFSETTO:+0200
TZNAME:CEST
DTSTART:20220327T010000
END:DAYLIGHT
BEGIN:STANDARD
TZOFFSETFROM:+0200
TZOFFSETTO:+0100
TZNAME:CET
DTSTART:20221030T010000
END:STANDARD
END:VTIMEZONE
BEGIN:VEVENT
DTSTART;VALUE=DATE:20210502
DTEND;VALUE=DATE:20210503
DTSTAMP:20260423T215233
CREATED:20210129T165227Z
LAST-MODIFIED:20210419T111552Z
UID:7238-1619913600-1619999999@cercledelavoiledeparis.fr
SUMMARY:Coupe Mantinéa - INQ DIV 5C --> reporté
DESCRIPTION:
URL:https://cercledelavoiledeparis.fr/event/coupe-mantinea-inq-div-5c-2/
END:VEVENT
BEGIN:VEVENT
DTSTART;VALUE=DATE:20210508
DTEND;VALUE=DATE:20210509
DTSTAMP:20260423T215233
CREATED:20210413T074245Z
LAST-MODIFIED:20210504T162143Z
UID:7486-1620432000-1620518399@cercledelavoiledeparis.fr
SUMMARY:Entrainement --> annulé
DESCRIPTION:
URL:https://cercledelavoiledeparis.fr/event/entrainement-4/
END:VEVENT
BEGIN:VEVENT
DTSTART;VALUE=DATE:20210509
DTEND;VALUE=DATE:20210510
DTSTAMP:20260423T215233
CREATED:20210420T153833Z
LAST-MODIFIED:20210504T162132Z
UID:7501-1620518400-1620604799@cercledelavoiledeparis.fr
SUMMARY:Coupe d'ouverture - interséries - 5C --> annulée
DESCRIPTION:
URL:https://cercledelavoiledeparis.fr/event/coupe-douverture-interseries/
END:VEVENT
BEGIN:VEVENT
DTSTART;VALUE=DATE:20210513
DTEND;VALUE=DATE:20210514
DTSTAMP:20260423T215233
CREATED:20210503T102748Z
LAST-MODIFIED:20210504T162153Z
UID:7505-1620864000-1620950399@cercledelavoiledeparis.fr
SUMMARY:Entrainement --> annulé
DESCRIPTION:
URL:https://cercledelavoiledeparis.fr/event/entrainement-5/
END:VEVENT
BEGIN:VEVENT
DTSTART;VALUE=DATE:20210516
DTEND;VALUE=DATE:20210517
DTSTAMP:20260423T215233
CREATED:20210129T165601Z
LAST-MODIFIED:20210504T162207Z
UID:7242-1621123200-1621209599@cercledelavoiledeparis.fr
SUMMARY:Trophée Interclub CVP YCIF interséries - INQ FAST 5B --> reporté
DESCRIPTION:
URL:https://cercledelavoiledeparis.fr/event/trophee-interclub-cvp-ycif-interseries-inq-fast-5b/
END:VEVENT
BEGIN:VEVENT
DTSTART;VALUE=DATE:20210523
DTEND;VALUE=DATE:20210524
DTSTAMP:20260423T215233
CREATED:20210325T122840Z
LAST-MODIFIED:20210325T122840Z
UID:7423-1621728000-1621814399@cercledelavoiledeparis.fr
SUMMARY:Journée découverte
DESCRIPTION:
URL:https://cercledelavoiledeparis.fr/event/journee-decouverte/
END:VEVENT
BEGIN:VEVENT
DTSTART;VALUE=DATE:20210524
DTEND;VALUE=DATE:20210525
DTSTAMP:20260423T215233
CREATED:20210129T165633Z
LAST-MODIFIED:20210519T103444Z
UID:7244-1621814400-1621900799@cercledelavoiledeparis.fr
SUMMARY:Petits bleus - INQ 5C --> reporté
DESCRIPTION:
URL:https://cercledelavoiledeparis.fr/event/petits-bleus-inq-5c-2/
END:VEVENT
BEGIN:VEVENT
DTSTART;VALUE=DATE:20210529
DTEND;VALUE=DATE:20210530
DTSTAMP:20260423T215233
CREATED:20210524T114135Z
LAST-MODIFIED:20210524T122803Z
UID:7543-1622246400-1622332799@cercledelavoiledeparis.fr
SUMMARY:Entrainement
DESCRIPTION:
URL:https://cercledelavoiledeparis.fr/event/entrainement-6/
END:VEVENT
BEGIN:VEVENT
DTSTART;VALUE=DATE:20210529
DTEND;VALUE=DATE:20210531
DTSTAMP:20260423T215233
CREATED:20210129T165732Z
LAST-MODIFIED:20210519T103523Z
UID:7246-1622246400-1622419199@cercledelavoiledeparis.fr
SUMMARY:National Soling - Gr 4 --> reporté
DESCRIPTION:
URL:https://cercledelavoiledeparis.fr/event/national-soling-gr-4/
ATTACH;FMTTYPE=image/jpeg:https://cercledelavoiledeparis.fr/wp-content/uploads/2014/10/logo-Soling.jpg
END:VEVENT
BEGIN:VEVENT
DTSTART;VALUE=DATE:20210530
DTEND;VALUE=DATE:20210531
DTSTAMP:20260423T215233
CREATED:20210129T165843Z
LAST-MODIFIED:20210526T065445Z
UID:7250-1622332800-1622419199@cercledelavoiledeparis.fr
SUMMARY:Coupe d’Ouverture Soling Star M750 Tempest Interserie quillard - 5C
DESCRIPTION:Lien d’inscription \nhttps://docs.google.com/forms/d/e/1FAIpQLSfY6XykHv9aAKRPI91FqFKcz2ULEdvfsWLYKtKjd224M6WlcQ/viewform?vc=0&c=0&w=1&flr=0
URL:https://cercledelavoiledeparis.fr/event/coupe-de-printemps-star-soling-m7-50-tempest-inq-5a-2/
END:VEVENT
END:VCALENDAR