BEGIN:VCALENDAR
VERSION:2.0
PRODID:-//CVP - ECPv6.15.20//NONSGML v1.0//EN
CALSCALE:GREGORIAN
METHOD:PUBLISH
X-ORIGINAL-URL:https://cercledelavoiledeparis.fr
X-WR-CALDESC:Évènements pour CVP
REFRESH-INTERVAL;VALUE=DURATION:PT1H
X-Robots-Tag:noindex
X-PUBLISHED-TTL:PT1H
BEGIN:VTIMEZONE
TZID:Europe/Paris
BEGIN:DAYLIGHT
TZOFFSETFROM:+0100
TZOFFSETTO:+0200
TZNAME:CEST
DTSTART:20190331T010000
END:DAYLIGHT
BEGIN:STANDARD
TZOFFSETFROM:+0200
TZOFFSETTO:+0100
TZNAME:CET
DTSTART:20191027T010000
END:STANDARD
BEGIN:DAYLIGHT
TZOFFSETFROM:+0100
TZOFFSETTO:+0200
TZNAME:CEST
DTSTART:20200329T010000
END:DAYLIGHT
BEGIN:STANDARD
TZOFFSETFROM:+0200
TZOFFSETTO:+0100
TZNAME:CET
DTSTART:20201025T010000
END:STANDARD
BEGIN:DAYLIGHT
TZOFFSETFROM:+0100
TZOFFSETTO:+0200
TZNAME:CEST
DTSTART:20210328T010000
END:DAYLIGHT
BEGIN:STANDARD
TZOFFSETFROM:+0200
TZOFFSETTO:+0100
TZNAME:CET
DTSTART:20211031T010000
END:STANDARD
END:VTIMEZONE
BEGIN:VEVENT
DTSTART;VALUE=DATE:20200905
DTEND;VALUE=DATE:20200907
DTSTAMP:20260424T103408
CREATED:20200324T172644Z
LAST-MODIFIED:20200812T085833Z
UID:6135-1599264000-1599436799@cercledelavoiledeparis.fr
SUMMARY:Coupe de Voile Radio commandée Classe 10R - 5A
DESCRIPTION: 
URL:https://cercledelavoiledeparis.fr/event/coupe-de-voile-radio-commandee-classe-10-5a/
END:VEVENT
BEGIN:VEVENT
DTSTART;VALUE=DATE:20200906
DTEND;VALUE=DATE:20200907
DTSTAMP:20260424T103408
CREATED:20200322T084109Z
LAST-MODIFIED:20200824T073730Z
UID:6102-1599350400-1599436799@cercledelavoiledeparis.fr
SUMMARY:Coupe Gwin Ru IV - INQ 5C
DESCRIPTION:https://docs.google.com/forms/d/e/1FAIpQLSfIT6Lb-YrHVWq8JWJLUCVVXQNCrFfkmTaIGrD0T-l0NcgWbw/viewform?vc=0&c=0&w=1&flr=0 \nDépart 13.30 précises \n\n		\n			\n			\n		\n\n		\n\n		\n			\n			\n		\n\n		\nFiche Inscription Gwin Ru IV 2020
URL:https://cercledelavoiledeparis.fr/event/entrainement-2/
END:VEVENT
BEGIN:VEVENT
DTSTART;VALUE=DATE:20200912
DTEND;VALUE=DATE:20200914
DTSTAMP:20260424T103408
CREATED:20200322T084150Z
LAST-MODIFIED:20200829T070752Z
UID:6104-1599868800-1600041599@cercledelavoiledeparis.fr
SUMMARY:Open Soling Trophy - N4
DESCRIPTION:Pour vous inscrire en ligne \nhttps://docs.google.com/forms/d/e/1FAIpQLSc6Hp8BRW5O5QiFrB33a66nz_AEy5tEIPRxATRW6CMo3FdPIQ/viewform?vc=0&c=0&w=1&flr=0 \n\n		\n			\n			\n		\n\n		\nFiche Inscrip Open soling 2020
URL:https://cercledelavoiledeparis.fr/event/open-soling-trophy-n4/
ATTACH;FMTTYPE=image/jpeg:https://cercledelavoiledeparis.fr/wp-content/uploads/2014/10/logo-Soling.jpg
END:VEVENT
BEGIN:VEVENT
DTSTART;VALUE=DATE:20200920
DTEND;VALUE=DATE:20200921
DTSTAMP:20260424T103408
CREATED:20200322T084249Z
LAST-MODIFIED:20200916T063249Z
UID:6106-1600560000-1600646399@cercledelavoiledeparis.fr
SUMMARY:Coupe des Dames - INQ 5C
DESCRIPTION:INSCRIPTION Coupe des Dames 2020 (1) \nhttps://docs.google.com/forms/d/e/1FAIpQLSctRpZYRhPGn2aJ6ZckffNJ3wPDAcyUdbZz_3k98NiOJ_njpg/viewform?vc=0&c=0&w=1&flr=0&usp=mail_form_link
URL:https://cercledelavoiledeparis.fr/event/coupe-des-dames-inq-5c-2/
END:VEVENT
BEGIN:VEVENT
DTSTART;VALUE=DATE:20200927
DTEND;VALUE=DATE:20200928
DTSTAMP:20260424T103408
CREATED:20200322T084359Z
LAST-MODIFIED:20200929T172750Z
UID:6108-1601164800-1601251199@cercledelavoiledeparis.fr
SUMMARY:Challenge super Star - 5A --> reporté
DESCRIPTION:Inscrip Challenge Super Star\, Soliong 7M50 Tempest Sb 2020 \nINSCRIPTIONS EN LIGNE \nhttps://docs.google.com/forms/d/e/1FAIpQLScBAJ_61iwy7QvloVnvNLlBhoZc6k1I7rUq9jm6EC5135_8TA/viewform?vc=0&c=0&w=1&flr=0&usp=mail_form_link
URL:https://cercledelavoiledeparis.fr/event/super-star-5a/
ATTACH;FMTTYPE=image/jpeg:https://cercledelavoiledeparis.fr/wp-content/uploads/2016/05/STAR-2.jpg
END:VEVENT
BEGIN:VEVENT
DTSTART;VALUE=DATE:20200927
DTEND;VALUE=DATE:20200928
DTSTAMP:20260424T103408
CREATED:20200622T070233Z
LAST-MODIFIED:20200929T172827Z
UID:6524-1601164800-1601251199@cercledelavoiledeparis.fr
SUMMARY:Challenge ING - Soling\, M7.50\, SB20 - 5A --> reporté
DESCRIPTION:Inscrip Challenge Super Star\, Soliong 7M50 Tempest Sb 2020 \nhttps://docs.google.com/forms/d/e/1FAIpQLScBAJ_61iwy7QvloVnvNLlBhoZc6k1I7rUq9jm6EC5135_8TA/viewform?vc=0&c=0&w=1&flr=0&usp=mail_form_link
URL:https://cercledelavoiledeparis.fr/event/challenge-ing-soling-m7-50-sb20-5a/
END:VEVENT
END:VCALENDAR