BEGIN:VCALENDAR
VERSION:2.0
PRODID:-//CVP - ECPv6.15.20//NONSGML v1.0//EN
CALSCALE:GREGORIAN
METHOD:PUBLISH
X-WR-CALNAME:CVP
X-ORIGINAL-URL:https://cercledelavoiledeparis.fr
X-WR-CALDESC:Évènements pour CVP
REFRESH-INTERVAL;VALUE=DURATION:PT1H
X-Robots-Tag:noindex
X-PUBLISHED-TTL:PT1H
BEGIN:VTIMEZONE
TZID:Europe/Paris
BEGIN:DAYLIGHT
TZOFFSETFROM:+0100
TZOFFSETTO:+0200
TZNAME:CEST
DTSTART:20210328T010000
END:DAYLIGHT
BEGIN:STANDARD
TZOFFSETFROM:+0200
TZOFFSETTO:+0100
TZNAME:CET
DTSTART:20211031T010000
END:STANDARD
BEGIN:DAYLIGHT
TZOFFSETFROM:+0100
TZOFFSETTO:+0200
TZNAME:CEST
DTSTART:20220327T010000
END:DAYLIGHT
BEGIN:STANDARD
TZOFFSETFROM:+0200
TZOFFSETTO:+0100
TZNAME:CET
DTSTART:20221030T010000
END:STANDARD
BEGIN:DAYLIGHT
TZOFFSETFROM:+0100
TZOFFSETTO:+0200
TZNAME:CEST
DTSTART:20230326T010000
END:DAYLIGHT
BEGIN:STANDARD
TZOFFSETFROM:+0200
TZOFFSETTO:+0100
TZNAME:CET
DTSTART:20231029T010000
END:STANDARD
END:VTIMEZONE
BEGIN:VEVENT
DTSTART;VALUE=DATE:20221022
DTEND;VALUE=DATE:20221024
DTSTAMP:20260420T213205
CREATED:20211226T090042Z
LAST-MODIFIED:20221008T065426Z
UID:7906-1666396800-1666569599@cercledelavoiledeparis.fr
SUMMARY:Coupe des Légendes
DESCRIPTION:https://docs.google.com/forms/d/e/1FAIpQLSfPQ8qoQDZDEymTSrEiwwe7fBhzBgcRM2v33ewz8x9K3Cylqg/viewform?vc=0&c=0&w=1&flr=0
URL:https://cercledelavoiledeparis.fr/event/coupe-des-legendes/
END:VEVENT
BEGIN:VEVENT
DTSTART;VALUE=DATE:20221022
DTEND;VALUE=DATE:20221024
DTSTAMP:20260420T213205
CREATED:20211227T185759Z
LAST-MODIFIED:20220921T180156Z
UID:7920-1666396800-1666569599@cercledelavoiledeparis.fr
SUMMARY:Coupe des Dinghy 12' - 5B
DESCRIPTION:
URL:https://cercledelavoiledeparis.fr/event/coupe-des-dinghy-12-5b/
ATTACH;FMTTYPE=image/jpeg:https://cercledelavoiledeparis.fr/wp-content/uploads/2020/06/dinghy-12.jpg
END:VEVENT
END:VCALENDAR