BEGIN:VCALENDAR
VERSION:2.0
PRODID:-//CVP - ECPv6.15.20//NONSGML v1.0//EN
CALSCALE:GREGORIAN
METHOD:PUBLISH
X-ORIGINAL-URL:https://cercledelavoiledeparis.fr
X-WR-CALDESC:Évènements pour CVP
REFRESH-INTERVAL;VALUE=DURATION:PT1H
X-Robots-Tag:noindex
X-PUBLISHED-TTL:PT1H
BEGIN:VTIMEZONE
TZID:Europe/Paris
BEGIN:DAYLIGHT
TZOFFSETFROM:+0100
TZOFFSETTO:+0200
TZNAME:CEST
DTSTART:20210328T010000
END:DAYLIGHT
BEGIN:STANDARD
TZOFFSETFROM:+0200
TZOFFSETTO:+0100
TZNAME:CET
DTSTART:20211031T010000
END:STANDARD
BEGIN:DAYLIGHT
TZOFFSETFROM:+0100
TZOFFSETTO:+0200
TZNAME:CEST
DTSTART:20220327T010000
END:DAYLIGHT
BEGIN:STANDARD
TZOFFSETFROM:+0200
TZOFFSETTO:+0100
TZNAME:CET
DTSTART:20221030T010000
END:STANDARD
BEGIN:DAYLIGHT
TZOFFSETFROM:+0100
TZOFFSETTO:+0200
TZNAME:CEST
DTSTART:20230326T010000
END:DAYLIGHT
BEGIN:STANDARD
TZOFFSETFROM:+0200
TZOFFSETTO:+0100
TZNAME:CET
DTSTART:20231029T010000
END:STANDARD
END:VTIMEZONE
BEGIN:VEVENT
DTSTART;VALUE=DATE:20220605
DTEND;VALUE=DATE:20220606
DTSTAMP:20260421T030753
CREATED:20211226T081425Z
LAST-MODIFIED:20211226T091505Z
UID:7868-1654387200-1654473599@cercledelavoiledeparis.fr
SUMMARY:Coupe de Printemps - Star - 5A
DESCRIPTION:
URL:https://cercledelavoiledeparis.fr/event/coupe-de-printemps-star-5a-2/
ATTACH;FMTTYPE=image/png:https://cercledelavoiledeparis.fr/wp-content/uploads/2021/12/Flotte-de-Paris.png
END:VEVENT
BEGIN:VEVENT
DTSTART;VALUE=DATE:20220605
DTEND;VALUE=DATE:20220606
DTSTAMP:20260421T030753
CREATED:20211226T081537Z
LAST-MODIFIED:20211227T185100Z
UID:7870-1654387200-1654473599@cercledelavoiledeparis.fr
SUMMARY:Coupe de Printemps - Soling\, 7M50\, SB20 - INQ 5A
DESCRIPTION:
URL:https://cercledelavoiledeparis.fr/event/coupe-de-printemps-soling-7m50-sb20-inq-5a/
END:VEVENT
END:VCALENDAR