BEGIN:VCALENDAR
VERSION:2.0
PRODID:-//CVP - ECPv6.15.20//NONSGML v1.0//EN
CALSCALE:GREGORIAN
METHOD:PUBLISH
X-WR-CALNAME:CVP
X-ORIGINAL-URL:https://cercledelavoiledeparis.fr
X-WR-CALDESC:Évènements pour CVP
REFRESH-INTERVAL;VALUE=DURATION:PT1H
X-Robots-Tag:noindex
X-PUBLISHED-TTL:PT1H
BEGIN:VTIMEZONE
TZID:Europe/Paris
BEGIN:DAYLIGHT
TZOFFSETFROM:+0100
TZOFFSETTO:+0200
TZNAME:CEST
DTSTART:20210328T010000
END:DAYLIGHT
BEGIN:STANDARD
TZOFFSETFROM:+0200
TZOFFSETTO:+0100
TZNAME:CET
DTSTART:20211031T010000
END:STANDARD
BEGIN:DAYLIGHT
TZOFFSETFROM:+0100
TZOFFSETTO:+0200
TZNAME:CEST
DTSTART:20220327T010000
END:DAYLIGHT
BEGIN:STANDARD
TZOFFSETFROM:+0200
TZOFFSETTO:+0100
TZNAME:CET
DTSTART:20221030T010000
END:STANDARD
BEGIN:DAYLIGHT
TZOFFSETFROM:+0100
TZOFFSETTO:+0200
TZNAME:CEST
DTSTART:20230326T010000
END:DAYLIGHT
BEGIN:STANDARD
TZOFFSETFROM:+0200
TZOFFSETTO:+0100
TZNAME:CET
DTSTART:20231029T010000
END:STANDARD
END:VTIMEZONE
BEGIN:VEVENT
DTSTART;VALUE=DATE:20220423
DTEND;VALUE=DATE:20220425
DTSTAMP:20260421T061401
CREATED:20211226T080543Z
LAST-MODIFIED:20220418T074859Z
UID:7856-1650672000-1650844799@cercledelavoiledeparis.fr
SUMMARY:Challenge des Grandes Ecoles - 7M50 - 5C
DESCRIPTION:INSCRIPTIONS EN LIGNE \nhttps://docs.google.com/forms/d/e/1FAIpQLSdBYnHbINulSBPco23NXIEYIGCwjqo1V2v0GEeTZU78grqPsQ/viewform?usp=pp_url \nbulletin inscipt. Trophée Grandes Ecoles et Université 23 et 24 avril 2022 \n\n		\n			\n			\n		\n\n		\n 
URL:https://cercledelavoiledeparis.fr/event/challenge-des-grandes-ecoles-7m50-5c/
ATTACH;FMTTYPE=image/jpeg:https://cercledelavoiledeparis.fr/wp-content/uploads/2021/12/InvitationTropheegrandesEcolesAvril2022.jpeg
END:VEVENT
BEGIN:VEVENT
DTSTART;VALUE=DATE:20220424
DTEND;VALUE=DATE:20220425
DTSTAMP:20260421T061401
CREATED:20211227T184927Z
LAST-MODIFIED:20220418T172916Z
UID:7915-1650758400-1650844799@cercledelavoiledeparis.fr
SUMMARY:Régate de Printemps Soling\, Star\, SB20 et autres quillards fast - 5C
DESCRIPTION:INSCRIPTIONS EN LIGNE \nhttps://docs.google.com/forms/d/e/1FAIpQLSeBulcy-WnnaE4kwCn4WPvOuXMovV5ZtO2lU4ybSxV8Drc5EA/viewform?vc=0&c=0&w=1&flr=0&usp=mail_form_link
URL:https://cercledelavoiledeparis.fr/event/regate-de-printemps-soling-star-sb20-et-autres-quillards-fast-5c/
END:VEVENT
END:VCALENDAR