BEGIN:VCALENDAR
VERSION:2.0
PRODID:-//CVP - ECPv6.15.20//NONSGML v1.0//EN
CALSCALE:GREGORIAN
METHOD:PUBLISH
X-WR-CALNAME:CVP
X-ORIGINAL-URL:https://cercledelavoiledeparis.fr
X-WR-CALDESC:Évènements pour CVP
REFRESH-INTERVAL;VALUE=DURATION:PT1H
X-Robots-Tag:noindex
X-PUBLISHED-TTL:PT1H
BEGIN:VTIMEZONE
TZID:Europe/Paris
BEGIN:DAYLIGHT
TZOFFSETFROM:+0100
TZOFFSETTO:+0200
TZNAME:CEST
DTSTART:20200329T010000
END:DAYLIGHT
BEGIN:STANDARD
TZOFFSETFROM:+0200
TZOFFSETTO:+0100
TZNAME:CET
DTSTART:20201025T010000
END:STANDARD
BEGIN:DAYLIGHT
TZOFFSETFROM:+0100
TZOFFSETTO:+0200
TZNAME:CEST
DTSTART:20210328T010000
END:DAYLIGHT
BEGIN:STANDARD
TZOFFSETFROM:+0200
TZOFFSETTO:+0100
TZNAME:CET
DTSTART:20211031T010000
END:STANDARD
BEGIN:DAYLIGHT
TZOFFSETFROM:+0100
TZOFFSETTO:+0200
TZNAME:CEST
DTSTART:20220327T010000
END:DAYLIGHT
BEGIN:STANDARD
TZOFFSETFROM:+0200
TZOFFSETTO:+0100
TZNAME:CET
DTSTART:20221030T010000
END:STANDARD
END:VTIMEZONE
BEGIN:VEVENT
DTSTART;VALUE=DATE:20211009
DTEND;VALUE=DATE:20211010
DTSTAMP:20260423T151456
CREATED:20210621T110158Z
LAST-MODIFIED:20211006T173717Z
UID:7633-1633737600-1633823999@cercledelavoiledeparis.fr
SUMMARY:Trophée CVP-YCIF en Star match Racing - 5B --> annulé
DESCRIPTION:
URL:https://cercledelavoiledeparis.fr/event/trophee-cvp-ycif-en-star-match-racing-5b/
ATTACH;FMTTYPE=image/gif:https://cercledelavoiledeparis.fr/wp-content/uploads/2016/05/Red_Star_50x50.gif
END:VEVENT
END:VCALENDAR