BEGIN:VCALENDAR
VERSION:2.0
PRODID:-//CVP - ECPv6.15.20//NONSGML v1.0//EN
CALSCALE:GREGORIAN
METHOD:PUBLISH
X-ORIGINAL-URL:https://cercledelavoiledeparis.fr
X-WR-CALDESC:Évènements pour CVP
REFRESH-INTERVAL;VALUE=DURATION:PT1H
X-Robots-Tag:noindex
X-PUBLISHED-TTL:PT1H
BEGIN:VTIMEZONE
TZID:Europe/Paris
BEGIN:DAYLIGHT
TZOFFSETFROM:+0100
TZOFFSETTO:+0200
TZNAME:CEST
DTSTART:20200329T010000
END:DAYLIGHT
BEGIN:STANDARD
TZOFFSETFROM:+0200
TZOFFSETTO:+0100
TZNAME:CET
DTSTART:20201025T010000
END:STANDARD
BEGIN:DAYLIGHT
TZOFFSETFROM:+0100
TZOFFSETTO:+0200
TZNAME:CEST
DTSTART:20210328T010000
END:DAYLIGHT
BEGIN:STANDARD
TZOFFSETFROM:+0200
TZOFFSETTO:+0100
TZNAME:CET
DTSTART:20211031T010000
END:STANDARD
BEGIN:DAYLIGHT
TZOFFSETFROM:+0100
TZOFFSETTO:+0200
TZNAME:CEST
DTSTART:20220327T010000
END:DAYLIGHT
BEGIN:STANDARD
TZOFFSETFROM:+0200
TZOFFSETTO:+0100
TZNAME:CET
DTSTART:20221030T010000
END:STANDARD
END:VTIMEZONE
BEGIN:VEVENT
DTSTART;VALUE=DATE:20210926
DTEND;VALUE=DATE:20210927
DTSTAMP:20260423T170052
CREATED:20210129T171248Z
LAST-MODIFIED:20210923T062738Z
UID:7277-1632614400-1632700799@cercledelavoiledeparis.fr
SUMMARY:Coupe Gwin Ru IV - INQ 5C
DESCRIPTION:bulletin insciption GWIN RU IV 26 sept 2021 \n\n		\n			\n			\n		\n\n		\nhttps://docs.google.com/forms/d/e/1FAIpQLSeT6t92HhsX0TkCAeaLR42HSA0XZNJ2S0BXbXMT-5EaTzaBPA/viewform?vc=0&c=0&w=1&flr=0&usp=mail_form_link
URL:https://cercledelavoiledeparis.fr/event/coupe-gwin-ru-iv-inq-5c/
END:VEVENT
END:VCALENDAR