BEGIN:VCALENDAR
VERSION:2.0
PRODID:-//CVP - ECPv6.15.20//NONSGML v1.0//EN
CALSCALE:GREGORIAN
METHOD:PUBLISH
X-ORIGINAL-URL:https://cercledelavoiledeparis.fr
X-WR-CALDESC:Évènements pour CVP
REFRESH-INTERVAL;VALUE=DURATION:PT1H
X-Robots-Tag:noindex
X-PUBLISHED-TTL:PT1H
BEGIN:VTIMEZONE
TZID:Europe/Paris
BEGIN:DAYLIGHT
TZOFFSETFROM:+0100
TZOFFSETTO:+0200
TZNAME:CEST
DTSTART:20200329T010000
END:DAYLIGHT
BEGIN:STANDARD
TZOFFSETFROM:+0200
TZOFFSETTO:+0100
TZNAME:CET
DTSTART:20201025T010000
END:STANDARD
BEGIN:DAYLIGHT
TZOFFSETFROM:+0100
TZOFFSETTO:+0200
TZNAME:CEST
DTSTART:20210328T010000
END:DAYLIGHT
BEGIN:STANDARD
TZOFFSETFROM:+0200
TZOFFSETTO:+0100
TZNAME:CET
DTSTART:20211031T010000
END:STANDARD
BEGIN:DAYLIGHT
TZOFFSETFROM:+0100
TZOFFSETTO:+0200
TZNAME:CEST
DTSTART:20220327T010000
END:DAYLIGHT
BEGIN:STANDARD
TZOFFSETFROM:+0200
TZOFFSETTO:+0100
TZNAME:CET
DTSTART:20221030T010000
END:STANDARD
END:VTIMEZONE
BEGIN:VEVENT
DTSTART;VALUE=DATE:20210606
DTEND;VALUE=DATE:20210607
DTSTAMP:20260423T214404
CREATED:20210525T074453Z
LAST-MODIFIED:20210601T161439Z
UID:7549-1622937600-1623023999@cercledelavoiledeparis.fr
SUMMARY:Coupe de Printemps Star - 5A
DESCRIPTION:Inscriptions en ligne\, à retourner avant jeudi 3 juin \nhttps://docs.google.com/forms/d/e/1FAIpQLSdnZiVtjmIxNM619jzk3MHFhsirmCuGP8tEgIs5f_MsT2WEIg/viewform?usp=pp_url \n\n		\n			\n			\n		\n\n		 \n		\n			\n			\n		\n\n		 Inscrip Printemps Star et Printemps autres quillmard Fast 2021
URL:https://cercledelavoiledeparis.fr/event/coupe-de-printemps-star-5a/
ATTACH;FMTTYPE=image/gif:https://cercledelavoiledeparis.fr/wp-content/uploads/2016/05/Red_Star_50x50.gif
END:VEVENT
BEGIN:VEVENT
DTSTART;VALUE=DATE:20210606
DTEND;VALUE=DATE:20210607
DTSTAMP:20260423T214404
CREATED:20210525T074529Z
LAST-MODIFIED:20210601T161802Z
UID:7551-1622937600-1623023999@cercledelavoiledeparis.fr
SUMMARY:Coupe de Printemps Soling\, 7M50\, Tempest INQ Fast - 5A
DESCRIPTION:Inscription en ligne avant le jeudi 3 juin \nhttps://docs.google.com/forms/d/e/1FAIpQLSdnZiVtjmIxNM619jzk3MHFhsirmCuGP8tEgIs5f_MsT2WEIg/viewform?usp=pp_url \n\n		\n			\n			\n		\n\n		 \n		\n			\n			\n		\n\n		 Inscrip Printemps Star et Printemps autres quillmard Fast 2021
URL:https://cercledelavoiledeparis.fr/event/coupe-de-printemps-soling-7m50-tempest-inq-fast-5a/
END:VEVENT
END:VCALENDAR