BEGIN:VCALENDAR
VERSION:2.0
PRODID:-//CVP - ECPv6.15.20//NONSGML v1.0//EN
CALSCALE:GREGORIAN
METHOD:PUBLISH
X-WR-CALNAME:CVP
X-ORIGINAL-URL:https://cercledelavoiledeparis.fr
X-WR-CALDESC:Évènements pour CVP
REFRESH-INTERVAL;VALUE=DURATION:PT1H
X-Robots-Tag:noindex
X-PUBLISHED-TTL:PT1H
BEGIN:VTIMEZONE
TZID:Europe/Paris
BEGIN:DAYLIGHT
TZOFFSETFROM:+0100
TZOFFSETTO:+0200
TZNAME:CEST
DTSTART:20200329T010000
END:DAYLIGHT
BEGIN:STANDARD
TZOFFSETFROM:+0200
TZOFFSETTO:+0100
TZNAME:CET
DTSTART:20201025T010000
END:STANDARD
BEGIN:DAYLIGHT
TZOFFSETFROM:+0100
TZOFFSETTO:+0200
TZNAME:CEST
DTSTART:20210328T010000
END:DAYLIGHT
BEGIN:STANDARD
TZOFFSETFROM:+0200
TZOFFSETTO:+0100
TZNAME:CET
DTSTART:20211031T010000
END:STANDARD
BEGIN:DAYLIGHT
TZOFFSETFROM:+0100
TZOFFSETTO:+0200
TZNAME:CEST
DTSTART:20220327T010000
END:DAYLIGHT
BEGIN:STANDARD
TZOFFSETFROM:+0200
TZOFFSETTO:+0100
TZNAME:CET
DTSTART:20221030T010000
END:STANDARD
END:VTIMEZONE
BEGIN:VEVENT
DTSTART;VALUE=DATE:20210417
DTEND;VALUE=DATE:20210419
DTSTAMP:20260424T011924
CREATED:20210129T164753Z
LAST-MODIFIED:20210419T111358Z
UID:7228-1618617600-1618790399@cercledelavoiledeparis.fr
SUMMARY:Coupe des Dinghy 12' - 5 --> reporté
DESCRIPTION:
URL:https://cercledelavoiledeparis.fr/event/coupe-des-dinghy12-5-b/
ATTACH;FMTTYPE=image/jpeg:https://cercledelavoiledeparis.fr/wp-content/uploads/2021/01/DINGY-12-1.jpg
END:VEVENT
BEGIN:VEVENT
DTSTART;VALUE=DATE:20210417
DTEND;VALUE=DATE:20210419
DTSTAMP:20260424T011924
CREATED:20210129T164910Z
LAST-MODIFIED:20210419T111432Z
UID:7232-1618617600-1618790399@cercledelavoiledeparis.fr
SUMMARY:Coupe interséries dériveurs - 5B --> reporté
DESCRIPTION:
URL:https://cercledelavoiledeparis.fr/event/coupe-interseries-deriveurs-5b/
END:VEVENT
BEGIN:VEVENT
DTSTART;VALUE=DATE:20210418
DTEND;VALUE=DATE:20210419
DTSTAMP:20260424T011924
CREATED:20210129T164652Z
LAST-MODIFIED:20210419T111445Z
UID:7226-1618704000-1618790399@cercledelavoiledeparis.fr
SUMMARY:Coupe Rotule - INQ 5C --> reporté
DESCRIPTION:
URL:https://cercledelavoiledeparis.fr/event/coupe-rotule-inq-5c/
END:VEVENT
END:VCALENDAR