BEGIN:VCALENDAR
VERSION:2.0
PRODID:-//CVP - ECPv6.15.20//NONSGML v1.0//EN
CALSCALE:GREGORIAN
METHOD:PUBLISH
X-WR-CALNAME:CVP
X-ORIGINAL-URL:https://cercledelavoiledeparis.fr
X-WR-CALDESC:Évènements pour CVP
REFRESH-INTERVAL;VALUE=DURATION:PT1H
X-Robots-Tag:noindex
X-PUBLISHED-TTL:PT1H
BEGIN:VTIMEZONE
TZID:Europe/Paris
BEGIN:DAYLIGHT
TZOFFSETFROM:+0100
TZOFFSETTO:+0200
TZNAME:CEST
DTSTART:20190331T010000
END:DAYLIGHT
BEGIN:STANDARD
TZOFFSETFROM:+0200
TZOFFSETTO:+0100
TZNAME:CET
DTSTART:20191027T010000
END:STANDARD
BEGIN:DAYLIGHT
TZOFFSETFROM:+0100
TZOFFSETTO:+0200
TZNAME:CEST
DTSTART:20200329T010000
END:DAYLIGHT
BEGIN:STANDARD
TZOFFSETFROM:+0200
TZOFFSETTO:+0100
TZNAME:CET
DTSTART:20201025T010000
END:STANDARD
BEGIN:DAYLIGHT
TZOFFSETFROM:+0100
TZOFFSETTO:+0200
TZNAME:CEST
DTSTART:20210328T010000
END:DAYLIGHT
BEGIN:STANDARD
TZOFFSETFROM:+0200
TZOFFSETTO:+0100
TZNAME:CET
DTSTART:20211031T010000
END:STANDARD
END:VTIMEZONE
BEGIN:VEVENT
DTSTART;VALUE=DATE:20201107
DTEND;VALUE=DATE:20201109
DTSTAMP:20260424T084341
CREATED:20200324T172934Z
LAST-MODIFIED:20201026T183054Z
UID:6137-1604707200-1604879999@cercledelavoiledeparis.fr
SUMMARY:Trophée d'Automne des M7.50 - 5A 1 & Intersérie quillards fast
DESCRIPTION:INSCRIPTIONS EN LIGNE \nhttps://docs.google.com/forms/d/e/1FAIpQLSdDYWrkfFY1_zWoM-0ExheyAjJvRFZu5shOUSqM-QztlEXPMA/viewform?vc=0&c=0&w=1&flr=0&gxids=7757 \n  \n\n		\n			\n			\n		\n\n		\n\n		\n			\n			\n		\n\n		\nFiche Inscrip trophée automne M7.50 et QUILL 2020
URL:https://cercledelavoiledeparis.fr/event/trophee-dautomne-des-m7-50-5a/
ATTACH;FMTTYPE=image/jpeg:https://cercledelavoiledeparis.fr/wp-content/uploads/2017/11/M7.50.jpg
END:VEVENT
END:VCALENDAR