BEGIN:VCALENDAR
VERSION:2.0
PRODID:-//CVP - ECPv6.15.20//NONSGML v1.0//EN
CALSCALE:GREGORIAN
METHOD:PUBLISH
X-WR-CALNAME:CVP
X-ORIGINAL-URL:https://cercledelavoiledeparis.fr
X-WR-CALDESC:Évènements pour CVP
REFRESH-INTERVAL;VALUE=DURATION:PT1H
X-Robots-Tag:noindex
X-PUBLISHED-TTL:PT1H
BEGIN:VTIMEZONE
TZID:Europe/Paris
BEGIN:DAYLIGHT
TZOFFSETFROM:+0100
TZOFFSETTO:+0200
TZNAME:CEST
DTSTART:20190331T010000
END:DAYLIGHT
BEGIN:STANDARD
TZOFFSETFROM:+0200
TZOFFSETTO:+0100
TZNAME:CET
DTSTART:20191027T010000
END:STANDARD
BEGIN:DAYLIGHT
TZOFFSETFROM:+0100
TZOFFSETTO:+0200
TZNAME:CEST
DTSTART:20200329T010000
END:DAYLIGHT
BEGIN:STANDARD
TZOFFSETFROM:+0200
TZOFFSETTO:+0100
TZNAME:CET
DTSTART:20201025T010000
END:STANDARD
BEGIN:DAYLIGHT
TZOFFSETFROM:+0100
TZOFFSETTO:+0200
TZNAME:CEST
DTSTART:20210328T010000
END:DAYLIGHT
BEGIN:STANDARD
TZOFFSETFROM:+0200
TZOFFSETTO:+0100
TZNAME:CET
DTSTART:20211031T010000
END:STANDARD
END:VTIMEZONE
BEGIN:VEVENT
DTSTART;VALUE=DATE:20201030
DTEND;VALUE=DATE:20201102
DTSTAMP:20260424T084400
CREATED:20200322T084838Z
LAST-MODIFIED:20201018T195547Z
UID:6118-1604016000-1604275199@cercledelavoiledeparis.fr
SUMMARY:40° Trophée Conill Paris - Star - N4 --> annulé
DESCRIPTION:Inscription en ligne \nhttps://cutt.ly/PfHJPXZ
URL:https://cercledelavoiledeparis.fr/event/40-trophee-conill-paris-star-n4/
ATTACH;FMTTYPE=image/gif:https://cercledelavoiledeparis.fr/wp-content/uploads/2016/05/Red_Star_50x50.gif
END:VEVENT
BEGIN:VEVENT
DTSTART;VALUE=DATE:20201101
DTEND;VALUE=DATE:20201102
DTSTAMP:20260424T084400
CREATED:20200324T173048Z
LAST-MODIFIED:20201026T195703Z
UID:6139-1604188800-1604275199@cercledelavoiledeparis.fr
SUMMARY:Star et autres Quillard voile légère Fast en Seine -
DESCRIPTION:INSCRIPTIONS EN LIGNE \nhttps://docs.google.com/forms/d/e/1FAIpQLSc_jyYgQDrXXVJFRisP-eokHbu61RHwVG2SxfWTgb43678fig/viewform?vc=0&c=0&w=1&flr=0&gxids=7757 \n\n		\n			\n			\n		\n\n		\nInscrip Star et autres quillard _Fast_ en Seine 2020 \n 
URL:https://cercledelavoiledeparis.fr/event/trophee-dautomne-des-soling-star-tempest-inter-serie-5a/
END:VEVENT
END:VCALENDAR