BEGIN:VCALENDAR
VERSION:2.0
PRODID:-//CVP - ECPv6.15.20//NONSGML v1.0//EN
CALSCALE:GREGORIAN
METHOD:PUBLISH
X-WR-CALNAME:CVP
X-ORIGINAL-URL:https://cercledelavoiledeparis.fr
X-WR-CALDESC:Évènements pour CVP
REFRESH-INTERVAL;VALUE=DURATION:PT1H
X-Robots-Tag:noindex
X-PUBLISHED-TTL:PT1H
BEGIN:VTIMEZONE
TZID:Europe/Paris
BEGIN:DAYLIGHT
TZOFFSETFROM:+0100
TZOFFSETTO:+0200
TZNAME:CEST
DTSTART:20190331T010000
END:DAYLIGHT
BEGIN:STANDARD
TZOFFSETFROM:+0200
TZOFFSETTO:+0100
TZNAME:CET
DTSTART:20191027T010000
END:STANDARD
BEGIN:DAYLIGHT
TZOFFSETFROM:+0100
TZOFFSETTO:+0200
TZNAME:CEST
DTSTART:20200329T010000
END:DAYLIGHT
BEGIN:STANDARD
TZOFFSETFROM:+0200
TZOFFSETTO:+0100
TZNAME:CET
DTSTART:20201025T010000
END:STANDARD
BEGIN:DAYLIGHT
TZOFFSETFROM:+0100
TZOFFSETTO:+0200
TZNAME:CEST
DTSTART:20210328T010000
END:DAYLIGHT
BEGIN:STANDARD
TZOFFSETFROM:+0200
TZOFFSETTO:+0100
TZNAME:CET
DTSTART:20211031T010000
END:STANDARD
END:VTIMEZONE
BEGIN:VEVENT
DTSTART;VALUE=DATE:20201024
DTEND;VALUE=DATE:20201026
DTSTAMP:20260424T101247
CREATED:20200322T084740Z
LAST-MODIFIED:20201018T195751Z
UID:6116-1603497600-1603670399@cercledelavoiledeparis.fr
SUMMARY:National Soling eaux intérieures - 5A
DESCRIPTION:Inscriptions en ligne \nhttps://docs.google.com/forms/d/e/1FAIpQLSeFjSCRp03hTwlnxZXxKVo6Efx97KDB7HLW_eNHfb3D0n93Qg/viewform?vc=0&c=0&w=1&flr=0&usp=mail_form_link \n  \nFiche Inscription Nationnal SOLING E I 2020
URL:https://cercledelavoiledeparis.fr/event/coupe-ginset-inq-5c/
ATTACH;FMTTYPE=image/jpeg:https://cercledelavoiledeparis.fr/wp-content/uploads/2014/10/logo-Soling.jpg
END:VEVENT
END:VCALENDAR