BEGIN:VCALENDAR
VERSION:2.0
PRODID:-//CVP - ECPv6.15.20//NONSGML v1.0//EN
CALSCALE:GREGORIAN
METHOD:PUBLISH
X-WR-CALNAME:CVP
X-ORIGINAL-URL:https://cercledelavoiledeparis.fr
X-WR-CALDESC:Évènements pour CVP
REFRESH-INTERVAL;VALUE=DURATION:PT1H
X-Robots-Tag:noindex
X-PUBLISHED-TTL:PT1H
BEGIN:VTIMEZONE
TZID:Europe/Paris
BEGIN:DAYLIGHT
TZOFFSETFROM:+0100
TZOFFSETTO:+0200
TZNAME:CEST
DTSTART:20190331T010000
END:DAYLIGHT
BEGIN:STANDARD
TZOFFSETFROM:+0200
TZOFFSETTO:+0100
TZNAME:CET
DTSTART:20191027T010000
END:STANDARD
BEGIN:DAYLIGHT
TZOFFSETFROM:+0100
TZOFFSETTO:+0200
TZNAME:CEST
DTSTART:20200329T010000
END:DAYLIGHT
BEGIN:STANDARD
TZOFFSETFROM:+0200
TZOFFSETTO:+0100
TZNAME:CET
DTSTART:20201025T010000
END:STANDARD
BEGIN:DAYLIGHT
TZOFFSETFROM:+0100
TZOFFSETTO:+0200
TZNAME:CEST
DTSTART:20210328T010000
END:DAYLIGHT
BEGIN:STANDARD
TZOFFSETFROM:+0200
TZOFFSETTO:+0100
TZNAME:CET
DTSTART:20211031T010000
END:STANDARD
END:VTIMEZONE
BEGIN:VEVENT
DTSTART;VALUE=DATE:20201011
DTEND;VALUE=DATE:20201012
DTSTAMP:20260424T101324
CREATED:20200322T084453Z
LAST-MODIFIED:20200930T064841Z
UID:6110-1602374400-1602460799@cercledelavoiledeparis.fr
SUMMARY:Challenge super Star & inter séries quillards de sport - 5A
DESCRIPTION:Séries invitées : Star\, Soling\, M7.50\, Tempest et SB20 \n\n		\n			\n			\n		\n\n		\nInscrip Challenge Super Star\, Soliong 7M50 Tempest Sb 2020 (2) \nhttps://docs.google.com/forms/d/e/1FAIpQLSf8N-SDhdQkArML3QaVYBjC5RPDj9KMPLDnep8LHOzX19G2Zg/viewform?vc=0&c=0&w=1&flr=0&usp=mail_form_link
URL:https://cercledelavoiledeparis.fr/event/super_star-5a/
END:VEVENT
END:VCALENDAR