BEGIN:VCALENDAR
VERSION:2.0
PRODID:-//CVP - ECPv6.15.20//NONSGML v1.0//EN
CALSCALE:GREGORIAN
METHOD:PUBLISH
X-ORIGINAL-URL:https://cercledelavoiledeparis.fr
X-WR-CALDESC:Évènements pour CVP
REFRESH-INTERVAL;VALUE=DURATION:PT1H
X-Robots-Tag:noindex
X-PUBLISHED-TTL:PT1H
BEGIN:VTIMEZONE
TZID:Europe/Paris
BEGIN:DAYLIGHT
TZOFFSETFROM:+0100
TZOFFSETTO:+0200
TZNAME:CEST
DTSTART:20180325T010000
END:DAYLIGHT
BEGIN:STANDARD
TZOFFSETFROM:+0200
TZOFFSETTO:+0100
TZNAME:CET
DTSTART:20181028T010000
END:STANDARD
BEGIN:DAYLIGHT
TZOFFSETFROM:+0100
TZOFFSETTO:+0200
TZNAME:CEST
DTSTART:20190331T010000
END:DAYLIGHT
BEGIN:STANDARD
TZOFFSETFROM:+0200
TZOFFSETTO:+0100
TZNAME:CET
DTSTART:20191027T010000
END:STANDARD
BEGIN:DAYLIGHT
TZOFFSETFROM:+0100
TZOFFSETTO:+0200
TZNAME:CEST
DTSTART:20200329T010000
END:DAYLIGHT
BEGIN:STANDARD
TZOFFSETFROM:+0200
TZOFFSETTO:+0100
TZNAME:CET
DTSTART:20201025T010000
END:STANDARD
END:VTIMEZONE
BEGIN:VEVENT
DTSTART;VALUE=DATE:20191109
DTEND;VALUE=DATE:20191111
DTSTAMP:20260425T043700
CREATED:20190119T080722Z
LAST-MODIFIED:20191031T213117Z
UID:3961-1573257600-1573430399@cercledelavoiledeparis.fr
SUMMARY:Trophée d'Automne des M7.50 et quillards de sport Fast - 5A - 9 & 10 novembre 2019
DESCRIPTION:Invitation CVP 7.50 – automne 9 et 10. 11.2019 \nAC Trophée auitomne M7.50 et Int Quil. 2019 \nFiche Inscript Automne M7.50 et QUIL. 2019 \nhttps://docs.google.com/forms/d/e/1FAIpQLSdvN-zBQFhoZnkaCrvBpjaE5TmWmD6T5LsGbqOUMTj4mKbxtw/viewform?vc=0&c=0&w=1
URL:https://cercledelavoiledeparis.fr/event/trophee-dautomne-des-m7-50-5a-9-10-novembre-2019/
ATTACH;FMTTYPE=image/jpeg:https://cercledelavoiledeparis.fr/wp-content/uploads/2017/11/M7.50.jpg
END:VEVENT
END:VCALENDAR