BEGIN:VCALENDAR
VERSION:2.0
PRODID:-//CVP - ECPv6.15.20//NONSGML v1.0//EN
CALSCALE:GREGORIAN
METHOD:PUBLISH
X-ORIGINAL-URL:https://cercledelavoiledeparis.fr
X-WR-CALDESC:Évènements pour CVP
REFRESH-INTERVAL;VALUE=DURATION:PT1H
X-Robots-Tag:noindex
X-PUBLISHED-TTL:PT1H
BEGIN:VTIMEZONE
TZID:Europe/Paris
BEGIN:DAYLIGHT
TZOFFSETFROM:+0100
TZOFFSETTO:+0200
TZNAME:CEST
DTSTART:20180325T010000
END:DAYLIGHT
BEGIN:STANDARD
TZOFFSETFROM:+0200
TZOFFSETTO:+0100
TZNAME:CET
DTSTART:20181028T010000
END:STANDARD
BEGIN:DAYLIGHT
TZOFFSETFROM:+0100
TZOFFSETTO:+0200
TZNAME:CEST
DTSTART:20190331T010000
END:DAYLIGHT
BEGIN:STANDARD
TZOFFSETFROM:+0200
TZOFFSETTO:+0100
TZNAME:CET
DTSTART:20191027T010000
END:STANDARD
BEGIN:DAYLIGHT
TZOFFSETFROM:+0100
TZOFFSETTO:+0200
TZNAME:CEST
DTSTART:20200329T010000
END:DAYLIGHT
BEGIN:STANDARD
TZOFFSETFROM:+0200
TZOFFSETTO:+0100
TZNAME:CET
DTSTART:20201025T010000
END:STANDARD
END:VTIMEZONE
BEGIN:VEVENT
DTSTART;VALUE=DATE:20191005
DTEND;VALUE=DATE:20191007
DTSTAMP:20260425T062215
CREATED:20190119T075038Z
LAST-MODIFIED:20190923T174916Z
UID:3949-1570233600-1570406399@cercledelavoiledeparis.fr
SUMMARY:Open Soling Trophy - N4 - 5 & 6 octobre 2019
DESCRIPTION:AC Open Soling Trophy 2019.2 \nInscrip Open soling 2019 \nhttps://docs.google.com/forms/d/e/1FAIpQLSdBvJPzn08LBlPAGbCEOvq4FE-FbjyoaX73dZJOv8E43LU-Mw/viewform?vc=0&c=0&w=1 \n 
URL:https://cercledelavoiledeparis.fr/event/open-soling-trophy-n4-5-6-octobre-2019/
ATTACH;FMTTYPE=image/jpeg:https://cercledelavoiledeparis.fr/wp-content/uploads/2014/10/logo-Soling.jpg
END:VEVENT
END:VCALENDAR